BEGIN:VCALENDAR
VERSION:2.0
PRODID:-//Gold River Community Services - ECPv6.15.18//NONSGML v1.0//EN
CALSCALE:GREGORIAN
METHOD:PUBLISH
X-WR-CALNAME:Gold River Community Services
X-ORIGINAL-URL:https://goldrivercommunityservices.org
X-WR-CALDESC:Events for Gold River Community Services
REFRESH-INTERVAL;VALUE=DURATION:PT1H
X-Robots-Tag:noindex
X-PUBLISHED-TTL:PT1H
BEGIN:VTIMEZONE
TZID:America/Vancouver
BEGIN:DAYLIGHT
TZOFFSETFROM:-0800
TZOFFSETTO:-0700
TZNAME:PDT
DTSTART:20240310T100000
END:DAYLIGHT
BEGIN:STANDARD
TZOFFSETFROM:-0700
TZOFFSETTO:-0800
TZNAME:PST
DTSTART:20241103T090000
END:STANDARD
BEGIN:DAYLIGHT
TZOFFSETFROM:-0800
TZOFFSETTO:-0700
TZNAME:PDT
DTSTART:20250309T100000
END:DAYLIGHT
BEGIN:STANDARD
TZOFFSETFROM:-0700
TZOFFSETTO:-0800
TZNAME:PST
DTSTART:20251102T090000
END:STANDARD
BEGIN:DAYLIGHT
TZOFFSETFROM:-0800
TZOFFSETTO:-0700
TZNAME:PDT
DTSTART:20260308T100000
END:DAYLIGHT
BEGIN:STANDARD
TZOFFSETFROM:-0700
TZOFFSETTO:-0800
TZNAME:PST
DTSTART:20261101T090000
END:STANDARD
END:VTIMEZONE
BEGIN:VEVENT
DTSTART;TZID=America/Vancouver:20250221T173000
DTEND;TZID=America/Vancouver:20250221T203000
DTSTAMP:20260425T052413
CREATED:20250211T221426Z
LAST-MODIFIED:20250303T220927Z
UID:10001452-1740159000-1740169800@goldrivercommunityservices.org
SUMMARY:Public Skate
DESCRIPTION:Join us every Friday until Mid-March from 5:30-8:30 for Public Skate – a great way to get active and have fun on the ice! Don’t have skates? No problem! Rent a pair and glide the night away… and don’t forget your helmet! See you at the rink! \nRegular Admission and Skate Rental Rates Apply.
URL:https://goldrivercommunityservices.org/event/friday-night-free-skate/2025-02-21/
LOCATION:Gerry Morgan Memorial Centre\, 350 Muchalat Drive\, Gold River\, British Columbia\, V0P1G0\, Canada
CATEGORIES:Community Events
END:VEVENT
END:VCALENDAR